BEGIN:VCALENDAR
VERSION:2.0
PRODID:-//eventon.com NONSGML v1.0//EN
BEGIN:VEVENT
UID:69ec3880462dd
DTSTAMP:20260424T224400
DTSTART:20191111T050000Z
DTEND:20191114T045900Z
LOCATION:SAWGRASS MARRIOTT GOLF RESORT & SPA SAN JOSE CALIFORNIA
SUMMARY:WORK FLEET FORUM
DESCRIPTION: The Work Fleet Forum is the meeting place for fleet leaders and fleet management solutions providers. 50 Work Fleet Leaders 50 fleet leaders who run hard-working fleets of trucks\,  vans\,  pickups\,  service trucks\,  bucket trucks and more gather at Work Fleet to share insights\,  ideas and inspiration. Fleet leaders engage[..]
END:VEVENT
END:VCALENDAR